BEGIN:VCALENDAR
VERSION:2.0
PRODID:-//Pfarrei St. Michael Kochel - ECPv6.15.17//NONSGML v1.0//EN
CALSCALE:GREGORIAN
METHOD:PUBLISH
X-ORIGINAL-URL:https://www.pfarrei-kochel.de
X-WR-CALDESC:Veranstaltungen für Pfarrei St. Michael Kochel
REFRESH-INTERVAL;VALUE=DURATION:PT1H
X-Robots-Tag:noindex
X-PUBLISHED-TTL:PT1H
BEGIN:VTIMEZONE
TZID:Europe/Berlin
BEGIN:DAYLIGHT
TZOFFSETFROM:+0100
TZOFFSETTO:+0200
TZNAME:CEST
DTSTART:20230326T010000
END:DAYLIGHT
BEGIN:STANDARD
TZOFFSETFROM:+0200
TZOFFSETTO:+0100
TZNAME:CET
DTSTART:20231029T010000
END:STANDARD
BEGIN:DAYLIGHT
TZOFFSETFROM:+0100
TZOFFSETTO:+0200
TZNAME:CEST
DTSTART:20240331T010000
END:DAYLIGHT
BEGIN:STANDARD
TZOFFSETFROM:+0200
TZOFFSETTO:+0100
TZNAME:CET
DTSTART:20241027T010000
END:STANDARD
BEGIN:DAYLIGHT
TZOFFSETFROM:+0100
TZOFFSETTO:+0200
TZNAME:CEST
DTSTART:20250330T010000
END:DAYLIGHT
BEGIN:STANDARD
TZOFFSETFROM:+0200
TZOFFSETTO:+0100
TZNAME:CET
DTSTART:20251026T010000
END:STANDARD
END:VTIMEZONE
BEGIN:VEVENT
DTSTART;TZID=Europe/Berlin:20241024T074500
DTEND;TZID=Europe/Berlin:20241024T193000
DTSTAMP:20260420T021828
CREATED:20240913T041819Z
LAST-MODIFIED:20240913T041819Z
UID:10000089-1729755900-1729798200@www.pfarrei-kochel.de
SUMMARY:Törggelen-Tagesfahrt nach Tirol
DESCRIPTION:Törggelen kann man auch in Österreich\nDer Sachausschuss Senioren lädt ein zur Törggelefahrt ins Zillertal\nam Donnerstag\, den 24. Oktober 2024. \nWir fahren am Achensee entlang zunächst bis Eben/Maurach.\nDort halten wir eine Morgenandacht und machen eine Breznpause. Dann besichtigen wir die Heumilchsennerei in Fügen.\nIm Anschluss kann man dort auch Käse kaufen.\nUnsere Fahrt geht weiter zum Heimatmuseum in Fügen\, bevor es dann zum Goglhof nach Fügenberg geht. \nAbfahrtszeiten:\n07:45 Uhr Abfahrt ab Kochel am See / Heimatbühne.\n07:47 Uhr Abfahrt ab Kochel am See / Bahnhof.\n07:52 Uhr Abfahrt ab Ort / Stachus.\n07:55 Uhr Abfahrt ab Pessenbach.\n08:05 Uhr Abfahrt ab Ried / Bhst.\n08:10 Uhr Abfahrt ab Benedikbeuern / Sparkasse\n08:15 Uhr Abfahrt ab Bichl / geg. Gh. Bayerischer Löwe \nUnsere Rückkehr in Kochel wird ca. 19.30 Uhr sein. \nDer Fahrpreis beträgt  65\,– € pro Person.\nDarin enthalten sind:\nHin – Und Rückfahrt im Reisebus\, Breznpause\, Törggelemenü und Eintritt ins Museum. \nGetränke und sonstige Extras sind nicht im Preis enthalten. \nAnmeldungen ab sofort bei Angelika Schöppner: \nTel.: 08851 9403173   und   0151 2575 1083 \ne-mail: Angelika.Schoeppner@t-online.de
URL:https://www.pfarrei-kochel.de/event/torggelen-tagesfahrt-nach-tirol/
ATTACH;FMTTYPE=image/jpeg:https://www.pfarrei-kochel.de/wp-content/uploads/2024/09/19bfc5ccf763e32284f367d947ed5a33.jpg
END:VEVENT
END:VCALENDAR