BEGIN:VCALENDAR
VERSION:2.0
PRODID:-//Pfarrei St. Michael Kochel - ECPv6.15.17//NONSGML v1.0//EN
CALSCALE:GREGORIAN
METHOD:PUBLISH
X-WR-CALNAME:Pfarrei St. Michael Kochel
X-ORIGINAL-URL:https://www.pfarrei-kochel.de
X-WR-CALDESC:Veranstaltungen für Pfarrei St. Michael Kochel
REFRESH-INTERVAL;VALUE=DURATION:PT1H
X-Robots-Tag:noindex
X-PUBLISHED-TTL:PT1H
BEGIN:VTIMEZONE
TZID:Europe/Berlin
BEGIN:DAYLIGHT
TZOFFSETFROM:+0100
TZOFFSETTO:+0200
TZNAME:CEST
DTSTART:20240331T010000
END:DAYLIGHT
BEGIN:STANDARD
TZOFFSETFROM:+0200
TZOFFSETTO:+0100
TZNAME:CET
DTSTART:20241027T010000
END:STANDARD
BEGIN:DAYLIGHT
TZOFFSETFROM:+0100
TZOFFSETTO:+0200
TZNAME:CEST
DTSTART:20250330T010000
END:DAYLIGHT
BEGIN:STANDARD
TZOFFSETFROM:+0200
TZOFFSETTO:+0100
TZNAME:CET
DTSTART:20251026T010000
END:STANDARD
BEGIN:DAYLIGHT
TZOFFSETFROM:+0100
TZOFFSETTO:+0200
TZNAME:CEST
DTSTART:20260329T010000
END:DAYLIGHT
BEGIN:STANDARD
TZOFFSETFROM:+0200
TZOFFSETTO:+0100
TZNAME:CET
DTSTART:20261025T010000
END:STANDARD
END:VTIMEZONE
BEGIN:VEVENT
DTSTART;TZID=Europe/Berlin:20250125T190000
DTEND;TZID=Europe/Berlin:20250125T190000
DTSTAMP:20260419T213331
CREATED:20241211T095740Z
LAST-MODIFIED:20241211T095740Z
UID:10000158-1737831600-1737831600@www.pfarrei-kochel.de
SUMMARY:Ökum. Gottesdienst mit Gebet um die Einheit der Christen
DESCRIPTION:Die Gebetswoche für die Einheit der Christen 2025 möchte eine Einladung sein\, auf dieses gemeinsame Erbe zurückzugreifen und tiefer in den Glauben einzutauchen\, der alle Christen vereint.
URL:https://www.pfarrei-kochel.de/event/oekum-gottesdienst-mit-gebet-um-die-einheit-der-christen/
LOCATION:Marienkirche Benediktbeuern\, Dorfpl. 4\, 83671 Benediktbeuern\, Deutschland
CATEGORIES:Gottesdienst,Startseite
ATTACH;FMTTYPE=image/jpeg:https://www.pfarrei-kochel.de/wp-content/uploads/2024/12/Gebetswoche-Einheit-der-Christen-e1733911048196.jpg
END:VEVENT
END:VCALENDAR