BEGIN:VCALENDAR
VERSION:2.0
PRODID:-//Pfarrei St. Michael Kochel - ECPv6.15.17//NONSGML v1.0//EN
CALSCALE:GREGORIAN
METHOD:PUBLISH
X-ORIGINAL-URL:https://www.pfarrei-kochel.de
X-WR-CALDESC:Veranstaltungen für Pfarrei St. Michael Kochel
REFRESH-INTERVAL;VALUE=DURATION:PT1H
X-Robots-Tag:noindex
X-PUBLISHED-TTL:PT1H
BEGIN:VTIMEZONE
TZID:Europe/Berlin
BEGIN:DAYLIGHT
TZOFFSETFROM:+0100
TZOFFSETTO:+0200
TZNAME:CEST
DTSTART:20240331T010000
END:DAYLIGHT
BEGIN:STANDARD
TZOFFSETFROM:+0200
TZOFFSETTO:+0100
TZNAME:CET
DTSTART:20241027T010000
END:STANDARD
BEGIN:DAYLIGHT
TZOFFSETFROM:+0100
TZOFFSETTO:+0200
TZNAME:CEST
DTSTART:20250330T010000
END:DAYLIGHT
BEGIN:STANDARD
TZOFFSETFROM:+0200
TZOFFSETTO:+0100
TZNAME:CET
DTSTART:20251026T010000
END:STANDARD
BEGIN:DAYLIGHT
TZOFFSETFROM:+0100
TZOFFSETTO:+0200
TZNAME:CEST
DTSTART:20260329T010000
END:DAYLIGHT
BEGIN:STANDARD
TZOFFSETFROM:+0200
TZOFFSETTO:+0100
TZNAME:CET
DTSTART:20261025T010000
END:STANDARD
END:VTIMEZONE
BEGIN:VEVENT
DTSTART;TZID=Europe/Berlin:20250131T170000
DTEND;TZID=Europe/Berlin:20250131T170000
DTSTAMP:20260419T201146
CREATED:20250110T103904Z
LAST-MODIFIED:20250123T074930Z
UID:10000163-1738342800-1738342800@www.pfarrei-kochel.de
SUMMARY:Ministrantenfasching
DESCRIPTION:Es war einmal… in einem weit entfernten Königreich verborgen hinter glitzernden Wäldern und leuchtenden Sternen\, wo Drachen sanft schliefen\, Feen tanzten und Prinzen und Prinzessinnen mutige Abenteuer erlebten. Dort wurde ein besonderes Fest ausgerufen\, das nur einmal im Jahr stattfindet und alle Kinder des Landes einlädt\, Teil eines unvergesslichen Märchen zu werden.\nEs wird getanzt\, gelacht\, gefeiert\, bis der Mond hoch am Himmel steht und die Sterne über dem Schloss funkeln.\nSeid ihr bereit\, dieses magische Abenteuer mit uns zu erleben?!\nDie Schlüssel zum Märchenreich:\nDatum Freitag\, den 31. Januar 2025\nUhrzeit 17:00 bis 21:00 Alle bis einschließlich 6. Klasse\n18:30 bis 23:00 Alle ab 7. Klasse\nOrt DJH Jugendherberge Benediktbeuern “Don Bosco”\, Don Bosco Straße 3\, Benediktbeuern\nAnmeldeschluss Bis 26.01.2025 in den Pfarrhof Briefkasten Benediktbeuern einwerfen\nUnkostenbeitrag 6 Euro als Unkostenbeitrag bitte zur Anmeldung beilegen \nWir bitten euch\, ein wenig zur königlichen Tafel beizutragen. Ob herzhafte Snacks oder süße Kuchen\, alles wird mit Freude entgegengenommen. Und denkt daran: Der Preis für das Beste Kostüm wird am Ende des Abends vergeben\nAlso schnappt euch eure Freunde denkt euch ein tolles Märchenkostüm aus und seid dabei. Wir freuen uns schon riesig auf einen magischen Abend voller Spaß\, Magie und Zauberei.\nMärchenhafte Grüße von euren Fasching begeisterten Gruppenleitern 😉 \nBild: Friedbert Simon In: Pfarrbriefservice.de \nMinifasching_EInladung_2025_2
URL:https://www.pfarrei-kochel.de/event/ministrantenfasching/
LOCATION:Jugendherberge Benediktbeuern “Don Bosco”\, Don Bosco Straße 3\, Benediktbeuern\, Don Bosco Straße 3\, Benediktbeuern\, 83671
CATEGORIES:Ministranten,Startseite
ATTACH;FMTTYPE=image/jpeg:https://www.pfarrei-kochel.de/wp-content/uploads/2025/01/3253_clown_01-e1736505721817.jpg
END:VEVENT
END:VCALENDAR