BEGIN:VCALENDAR
VERSION:2.0
PRODID:-//Pfarrei St. Michael Kochel - ECPv6.15.17//NONSGML v1.0//EN
CALSCALE:GREGORIAN
METHOD:PUBLISH
X-WR-CALNAME:Pfarrei St. Michael Kochel
X-ORIGINAL-URL:https://www.pfarrei-kochel.de
X-WR-CALDESC:Veranstaltungen für Pfarrei St. Michael Kochel
REFRESH-INTERVAL;VALUE=DURATION:PT1H
X-Robots-Tag:noindex
X-PUBLISHED-TTL:PT1H
BEGIN:VTIMEZONE
TZID:Europe/Berlin
BEGIN:DAYLIGHT
TZOFFSETFROM:+0100
TZOFFSETTO:+0200
TZNAME:CEST
DTSTART:20250330T010000
END:DAYLIGHT
BEGIN:STANDARD
TZOFFSETFROM:+0200
TZOFFSETTO:+0100
TZNAME:CET
DTSTART:20251026T010000
END:STANDARD
BEGIN:DAYLIGHT
TZOFFSETFROM:+0100
TZOFFSETTO:+0200
TZNAME:CEST
DTSTART:20260329T010000
END:DAYLIGHT
BEGIN:STANDARD
TZOFFSETFROM:+0200
TZOFFSETTO:+0100
TZNAME:CET
DTSTART:20261025T010000
END:STANDARD
BEGIN:DAYLIGHT
TZOFFSETFROM:+0100
TZOFFSETTO:+0200
TZNAME:CEST
DTSTART:20270328T010000
END:DAYLIGHT
BEGIN:STANDARD
TZOFFSETFROM:+0200
TZOFFSETTO:+0100
TZNAME:CET
DTSTART:20271031T010000
END:STANDARD
END:VTIMEZONE
BEGIN:VEVENT
DTSTART;TZID=Europe/Berlin:20260405T093000
DTEND;TZID=Europe/Berlin:20260405T093000
DTSTAMP:20260420T114734
CREATED:20250325T124044Z
LAST-MODIFIED:20260305T090223Z
UID:10000281-1775381400-1775381400@www.pfarrei-kochel.de
SUMMARY:Festgottesdienst mit Speisenweihe
DESCRIPTION:
URL:https://www.pfarrei-kochel.de/event/hl-messe-zum-osterfest-mit-speisenweihe/
LOCATION:St. Michael Kochel a.S.\, Pfarrer-Hartmann-Weg 3\, 82431 Kochel am See\, Deutschland
CATEGORIES:Gottesdienst,Startseite
ATTACH;FMTTYPE=image/jpeg:https://www.pfarrei-kochel.de/wp-content/uploads/2025/03/332-osterkorb_by_friedbert_simon_pfarrbriefservice-e1742906437865.jpg
END:VEVENT
BEGIN:VEVENT
DTSTART;TZID=Europe/Berlin:20260405T111500
DTEND;TZID=Europe/Berlin:20260405T111500
DTSTAMP:20260420T114734
CREATED:20260305T090353Z
LAST-MODIFIED:20260305T090353Z
UID:10000427-1775387700-1775387700@www.pfarrei-kochel.de
SUMMARY:Wort-Gottes-Feier für Familien\, mi Speisenweihe\, anschl. Ostereiersuche im Pfarrgarten
DESCRIPTION:
URL:https://www.pfarrei-kochel.de/event/wort-gottes-feier-fuer-familien-mi-speisenweihe-anschl-ostereiersuche-im-pfarrgarten/
LOCATION:St. Michael Kochel a.S.\, Pfarrer-Hartmann-Weg 3\, 82431 Kochel am See\, Deutschland
CATEGORIES:Gottesdienst,Startseite
ATTACH;FMTTYPE=image/jpeg:https://www.pfarrei-kochel.de/wp-content/uploads/2025/03/332-osterkorb_by_friedbert_simon_pfarrbriefservice-e1742906437865.jpg
END:VEVENT
END:VCALENDAR