BEGIN:VCALENDAR
VERSION:2.0
PRODID:-//Pfarrei St. Michael Kochel - ECPv6.15.17//NONSGML v1.0//EN
CALSCALE:GREGORIAN
METHOD:PUBLISH
X-WR-CALNAME:Pfarrei St. Michael Kochel
X-ORIGINAL-URL:https://www.pfarrei-kochel.de
X-WR-CALDESC:Veranstaltungen für Pfarrei St. Michael Kochel
REFRESH-INTERVAL;VALUE=DURATION:PT1H
X-Robots-Tag:noindex
X-PUBLISHED-TTL:PT1H
BEGIN:VTIMEZONE
TZID:Europe/Berlin
BEGIN:DAYLIGHT
TZOFFSETFROM:+0100
TZOFFSETTO:+0200
TZNAME:CEST
DTSTART:20230326T010000
END:DAYLIGHT
BEGIN:STANDARD
TZOFFSETFROM:+0200
TZOFFSETTO:+0100
TZNAME:CET
DTSTART:20231029T010000
END:STANDARD
BEGIN:DAYLIGHT
TZOFFSETFROM:+0100
TZOFFSETTO:+0200
TZNAME:CEST
DTSTART:20240331T010000
END:DAYLIGHT
BEGIN:STANDARD
TZOFFSETFROM:+0200
TZOFFSETTO:+0100
TZNAME:CET
DTSTART:20241027T010000
END:STANDARD
BEGIN:DAYLIGHT
TZOFFSETFROM:+0100
TZOFFSETTO:+0200
TZNAME:CEST
DTSTART:20250330T010000
END:DAYLIGHT
BEGIN:STANDARD
TZOFFSETFROM:+0200
TZOFFSETTO:+0100
TZNAME:CET
DTSTART:20251026T010000
END:STANDARD
END:VTIMEZONE
BEGIN:VEVENT
DTSTART;TZID=Europe/Berlin:20241101T140000
DTEND;TZID=Europe/Berlin:20241101T170000
DTSTAMP:20260419T230543
CREATED:20240913T043134Z
LAST-MODIFIED:20260409T125732Z
UID:10000329-1730469600-1730480400@www.pfarrei-kochel.de
SUMMARY:Hauskommunion
DESCRIPTION:Zeit fürs Gespräch – miteinander beten – die Eucharistie empfangen \n\nAn jedem ersten Freitag im Monat kommt der Pfarrer\, einer der Diakone oder ein beauftragtes Gemeindemitglied bei jenen Menschen zu Hause vorbei\, die wegen Krankheit\, Behinderung oder aus anderen Gründen die Hl. Messe in unseren Kirchen nicht mitfeiern können. \nIn einem besonderen Gefäß verwahrt er dabei eine Hostie\, die bei einer Eucharistiefeier konsekriert wurde. Gemeinsam feiern wir in der Wohnung einen Gottesdienst\, hören eine biblische Lesung\, beten miteinander und empfangen schließlich das „Brot des Lebens“. Gelegentlich erklingt noch ein Lied und ein Segensgebet wird gesprochen. \nEs ist schön\, wenn in den Häusern eine Kerze und ein Kreuz vorbereitet sind. Auch das Weihwasser kann bereitstehen\, um mit ihm das Kreuzzeichen zu vollziehen.\nSchön ist es\, wenn Angehörige und Mitbewohner an der Feier teilnehmen und evtl. auch die heilige Kommunion empfangen.\nNeben der liturgischen Feier bleibt noch Zeit für ein Gespräch über alles\, was gerade ansteht. \nEinfach einmal „ausprobieren“!\nWie in anderen Bereichen spüren wir auch bei der Krankenkommunion den gesellschaftlichen Wandel. Es gibt wachsende Hürden\, diesen Dienst in Anspruch zu nehmen. Umso wertvoller ist es\, wenn Verwandte oder Nachbarn die Krankenkommunion ins Gespräch bringen und vielleicht den Erstkontakt zum Pfarrbüro (Tel. 08857 69289-0) herstellen. Man kann es übrigens auch einfach mal „ausprobieren“.\nImmer ruft das Pfarrbüro vorher an\, um zu hören\, ob die Krankenkommunion gewünscht ist\, und um gegebenenfalls die Uhrzeit abzusprechen. \nRufen sie einfach an! Wir informieren Sie gerne!\nWir sind unter folgender Telefonnummer im Pfarrbüro erreichbar: 08857 69 289-0
URL:https://www.pfarrei-kochel.de/event/hauskommunion-3/2024-11-01/
CATEGORIES:Gottesdienst
ATTACH;FMTTYPE=image/jpeg:https://www.pfarrei-kochel.de/wp-content/uploads/2024/09/57406ec967c018af7b80af2eca3ca453.jpg
END:VEVENT
BEGIN:VEVENT
DTSTART;TZID=Europe/Berlin:20241124T080000
DTEND;TZID=Europe/Berlin:20241124T170000
DTSTAMP:20260419T230543
CREATED:20240913T030037Z
LAST-MODIFIED:20241011T145624Z
UID:10000084-1732435200-1732467600@www.pfarrei-kochel.de
SUMMARY:Kirchenverwaltungswahlen
DESCRIPTION:Am 24. November 2024 finden im Bistum Augsburg  Kirchenverwaltungswahlen statt. Alle volljährigen Katholiken und Katholikinnen können dann über die Zukunft ihrer Kirche mitbestimmen und sich auch vorher selbst als Kandidat bzw. Kandidatin aufstellen lassen. \nAufgaben der Kirchenverwaltung:\nAls Mitglied der Kirchenverwaltung haben Sie die Möglichkeit\, maßgeblich an Entscheidungen teilzuhaben\, die die Zukunft unserer Gemeinde prägen. Ob es um die Finanzen\, Veranstaltungen\, Personalangelegenheiten oder Baumaßnahmen geht\, sie sorgt für ein reibungsloses Funktionieren der Gemeinde und gewährleistet die spirituelle und soziale Unterstützung für ihre Mitglieder.\nFolgende Bereiche können in den Zuständigkeitsbereich fallen (je nach Pfarrei und Gegebenheiten): \n\nFinanzverwaltung: Die Kirchenverwaltung ist für die Verwaltung der finanziellen Angelegenheiten der Kirchengemeinde zuständig. Dazu gehören die Erstellung und Überwachung des Haushaltsplans\, die Verwaltung von Spenden und Kollekten\, die Zahlung von Gehältern und die Verwaltung von Vermögenswerten.\nPersonalführung: In Gemeinden\, die über Mitarbeiter verfügen\, kann die Kirchenverwaltung für die Einstellung\, Beaufsichtigung und Bewertung dieser Mitarbeiter verantwortlich sein.\nGemeindeorganisation und -veranstaltungen: Die Kirchenverwaltung kann bei der Planung und Organisation von Gottesdiensten\, Veranstaltungen\, Gemeindefeiern und anderen Aktivitäten der Gemeinde mitwirken.\nGebäude und Grundstücke: Die Verwaltung und Instandhaltung von Kirchengebäuden\, Gemeinderäumen und anderen Immobilien der Gemeinde fällt oft ebenfalls in den Zuständigkeitsbereich der Kirchenverwaltung.\nGemeindeentwicklung: Die Kirchenverwaltung kann bei der Entwicklung von langfristigen Zielen und Strategien für das Wachstum und die Entwicklung der Kirchengemeinde mitwirken.\nRechtliche Angelegenheiten: Die Kirchenverwaltung kann rechtliche Angelegenheiten im Namen der Kirchengemeinde bearbeiten\, wie beispielsweise die Einhaltung von Gesetzen und Vorschriften oder die Verwaltung von Verträgen und Versicherungen.
URL:https://www.pfarrei-kochel.de/event/kirchenverwaltungswahlen/
ATTACH;FMTTYPE=image/jpeg:https://www.pfarrei-kochel.de/wp-content/uploads/2024/09/8a00dcfe354b6e216daba5d1697e24aa.jpg
END:VEVENT
END:VCALENDAR