BEGIN:VCALENDAR
VERSION:2.0
PRODID:-//Pfarrei St. Michael Kochel - ECPv6.15.17//NONSGML v1.0//EN
CALSCALE:GREGORIAN
METHOD:PUBLISH
X-WR-CALNAME:Pfarrei St. Michael Kochel
X-ORIGINAL-URL:https://www.pfarrei-kochel.de
X-WR-CALDESC:Veranstaltungen für Pfarrei St. Michael Kochel
REFRESH-INTERVAL;VALUE=DURATION:PT1H
X-Robots-Tag:noindex
X-PUBLISHED-TTL:PT1H
BEGIN:VTIMEZONE
TZID:Europe/Berlin
BEGIN:DAYLIGHT
TZOFFSETFROM:+0100
TZOFFSETTO:+0200
TZNAME:CEST
DTSTART:20240331T010000
END:DAYLIGHT
BEGIN:STANDARD
TZOFFSETFROM:+0200
TZOFFSETTO:+0100
TZNAME:CET
DTSTART:20241027T010000
END:STANDARD
BEGIN:DAYLIGHT
TZOFFSETFROM:+0100
TZOFFSETTO:+0200
TZNAME:CEST
DTSTART:20250330T010000
END:DAYLIGHT
BEGIN:STANDARD
TZOFFSETFROM:+0200
TZOFFSETTO:+0100
TZNAME:CET
DTSTART:20251026T010000
END:STANDARD
BEGIN:DAYLIGHT
TZOFFSETFROM:+0100
TZOFFSETTO:+0200
TZNAME:CEST
DTSTART:20260329T010000
END:DAYLIGHT
BEGIN:STANDARD
TZOFFSETFROM:+0200
TZOFFSETTO:+0100
TZNAME:CET
DTSTART:20261025T010000
END:STANDARD
END:VTIMEZONE
BEGIN:VEVENT
DTSTART;TZID=Europe/Berlin:20250307T140000
DTEND;TZID=Europe/Berlin:20250307T170000
DTSTAMP:20260419T165711
CREATED:20240913T043134Z
LAST-MODIFIED:20260409T125732Z
UID:10000332-1741356000-1741366800@www.pfarrei-kochel.de
SUMMARY:Hauskommunion
DESCRIPTION:Zeit fürs Gespräch – miteinander beten – die Eucharistie empfangen \n\nAn jedem ersten Freitag im Monat kommt der Pfarrer\, einer der Diakone oder ein beauftragtes Gemeindemitglied bei jenen Menschen zu Hause vorbei\, die wegen Krankheit\, Behinderung oder aus anderen Gründen die Hl. Messe in unseren Kirchen nicht mitfeiern können. \nIn einem besonderen Gefäß verwahrt er dabei eine Hostie\, die bei einer Eucharistiefeier konsekriert wurde. Gemeinsam feiern wir in der Wohnung einen Gottesdienst\, hören eine biblische Lesung\, beten miteinander und empfangen schließlich das „Brot des Lebens“. Gelegentlich erklingt noch ein Lied und ein Segensgebet wird gesprochen. \nEs ist schön\, wenn in den Häusern eine Kerze und ein Kreuz vorbereitet sind. Auch das Weihwasser kann bereitstehen\, um mit ihm das Kreuzzeichen zu vollziehen.\nSchön ist es\, wenn Angehörige und Mitbewohner an der Feier teilnehmen und evtl. auch die heilige Kommunion empfangen.\nNeben der liturgischen Feier bleibt noch Zeit für ein Gespräch über alles\, was gerade ansteht. \nEinfach einmal „ausprobieren“!\nWie in anderen Bereichen spüren wir auch bei der Krankenkommunion den gesellschaftlichen Wandel. Es gibt wachsende Hürden\, diesen Dienst in Anspruch zu nehmen. Umso wertvoller ist es\, wenn Verwandte oder Nachbarn die Krankenkommunion ins Gespräch bringen und vielleicht den Erstkontakt zum Pfarrbüro (Tel. 08857 69289-0) herstellen. Man kann es übrigens auch einfach mal „ausprobieren“.\nImmer ruft das Pfarrbüro vorher an\, um zu hören\, ob die Krankenkommunion gewünscht ist\, und um gegebenenfalls die Uhrzeit abzusprechen. \nRufen sie einfach an! Wir informieren Sie gerne!\nWir sind unter folgender Telefonnummer im Pfarrbüro erreichbar: 08857 69 289-0
URL:https://www.pfarrei-kochel.de/event/hauskommunion-3/2025-03-07/
CATEGORIES:Gottesdienst
ATTACH;FMTTYPE=image/jpeg:https://www.pfarrei-kochel.de/wp-content/uploads/2024/09/57406ec967c018af7b80af2eca3ca453.jpg
END:VEVENT
BEGIN:VEVENT
DTSTART;TZID=Europe/Berlin:20250307T190000
DTEND;TZID=Europe/Berlin:20250307T190000
DTSTAMP:20260419T165711
CREATED:20250127T135836Z
LAST-MODIFIED:20250130T074245Z
UID:10000168-1741374000-1741374000@www.pfarrei-kochel.de
SUMMARY:Ökum. Gottesdienst zum Weltgebetstag der Frauen
DESCRIPTION:Wir feiern rund um den Erdball den Weltgebetstag der Frauen!\nÜber Konfessions- und Ländergrenzen hinweg engagieren sich Frauen beim Weltgebetstag dafür\, dass Mädchen und Frauen überall auf der Welt in Frieden\, Gerechtigkeit und Würde leben können. So entstand die größte Basisbewegung christlicher Frauen weltweit.
URL:https://www.pfarrei-kochel.de/event/oekum-gottesdienst-zum-weltgebetstag-der-frauen-2/
CATEGORIES:Gottesdienst,Startseite
ATTACH;FMTTYPE=image/png:https://www.pfarrei-kochel.de/wp-content/uploads/2025/01/Weltgebettag_Frauen.png
END:VEVENT
BEGIN:VEVENT
DTSTART;TZID=Europe/Berlin:20250314T190000
DTEND;TZID=Europe/Berlin:20250314T190000
DTSTAMP:20260419T165711
CREATED:20250127T143623Z
LAST-MODIFIED:20250321T131800Z
UID:10000180-1741978800-1741978800@www.pfarrei-kochel.de
SUMMARY:Kreuzweg-Andacht
DESCRIPTION:
URL:https://www.pfarrei-kochel.de/event/kreuzwegandacht/2025-03-14/
LOCATION:St. Michael Kochel a.S.\, Pfarrer-Hartmann-Weg 3\, 82431 Kochel am See\, Deutschland
CATEGORIES:Fastenzeit,Gottesdienst,Startseite
ATTACH;FMTTYPE=image/jpeg:https://www.pfarrei-kochel.de/wp-content/uploads/2025/01/Kreuz_Marienkirche.jpg
END:VEVENT
BEGIN:VEVENT
DTSTART;TZID=Europe/Berlin:20250321T190000
DTEND;TZID=Europe/Berlin:20250321T190000
DTSTAMP:20260419T165712
CREATED:20250127T143623Z
LAST-MODIFIED:20250321T131800Z
UID:10000181-1742583600-1742583600@www.pfarrei-kochel.de
SUMMARY:Kreuzweg-Andacht
DESCRIPTION:
URL:https://www.pfarrei-kochel.de/event/kreuzwegandacht/2025-03-21/
LOCATION:St. Michael Kochel a.S.\, Pfarrer-Hartmann-Weg 3\, 82431 Kochel am See\, Deutschland
CATEGORIES:Fastenzeit,Gottesdienst,Startseite
ATTACH;FMTTYPE=image/jpeg:https://www.pfarrei-kochel.de/wp-content/uploads/2025/01/Kreuz_Marienkirche.jpg
END:VEVENT
BEGIN:VEVENT
DTSTART;TZID=Europe/Berlin:20250322T090000
DTEND;TZID=Europe/Berlin:20250322T140000
DTSTAMP:20260419T165712
CREATED:20250121T072646Z
LAST-MODIFIED:20250121T072646Z
UID:10000164-1742634000-1742652000@www.pfarrei-kochel.de
SUMMARY:Einkehrtag der Frauen - "Trauerwege ins Leben" mit Sr. Mechthid Hommel
DESCRIPTION:Jede von uns kennt Abschiede\, Trauer\, Hoffnungslosigkeit. Die österliche Umkehrzeit (Fastenzeit) lädt uns ein\, den Blick durch die Trauer hindurch zu wagen. Der Tod ist nicht das Letzte\, sondern das Leben. Nur: der Weg geht durch Trauer\, den Abschied hindurch. Was hilft uns\, diese Realität anzunehmen und nicht aufzugeben?\nMit biblischen Impulsen wollen wir uns dieser Frage nähern und einander stärken \nReferentin: Diplom.-Theologin Sr. Mechthild Hommel OSB\, Tutzing \nAblauf: \n09:00 – 12:00   Impulse und Austausch \n12:00 – 13:00   Pause mit Imbiss im Pfarrhaus \n13:00                 gemeinsame gottesdienstliche Feier zum Abschluss \nAnmeldung bei Erna Klingebiel\, Tel. 08857-8361 oder 0157-74741906 \nmaximal 30 Teilnehmerinnen
URL:https://www.pfarrei-kochel.de/event/einkehrtag-der-frauen-trauerwege-ins-leben-mit-sr-mechthid-hommel/
LOCATION:Pfarrhof Benediktbeuern\, Dorfpl. 4\, 83671 Benediktbeuern\, Deutschland
CATEGORIES:Fastenzeit,Gottesdienst,Startseite
ATTACH;FMTTYPE=image/jpeg:https://www.pfarrei-kochel.de/wp-content/uploads/2025/01/Fruehschicht_by_aaron-burden_cc0-gemeinfrei_unsplash_pfarrbriefservice-e1737444381195.jpg
END:VEVENT
BEGIN:VEVENT
DTSTART;TZID=Europe/Berlin:20250328T190000
DTEND;TZID=Europe/Berlin:20250328T190000
DTSTAMP:20260419T165712
CREATED:20250127T143623Z
LAST-MODIFIED:20250321T131800Z
UID:10000182-1743188400-1743188400@www.pfarrei-kochel.de
SUMMARY:Kreuzweg-Andacht
DESCRIPTION:
URL:https://www.pfarrei-kochel.de/event/kreuzwegandacht/2025-03-28/
LOCATION:St. Michael Kochel a.S.\, Pfarrer-Hartmann-Weg 3\, 82431 Kochel am See\, Deutschland
CATEGORIES:Fastenzeit,Gottesdienst,Startseite
ATTACH;FMTTYPE=image/jpeg:https://www.pfarrei-kochel.de/wp-content/uploads/2025/01/Kreuz_Marienkirche.jpg
END:VEVENT
BEGIN:VEVENT
DTSTART;TZID=Europe/Berlin:20250329T073000
DTEND;TZID=Europe/Berlin:20250329T100000
DTSTAMP:20260419T165712
CREATED:20250228T140601Z
LAST-MODIFIED:20250324T092322Z
UID:10000198-1743233400-1743242400@www.pfarrei-kochel.de
SUMMARY:Soli-Brotaktion zugunsten der „Friedhofskinder“ in Liberia
DESCRIPTION:Mit dem Erlös wird ein Straßenkinderprojekt der Salesianer DonBosco in Liberia unterstützt. In der Hauptstadt Monrovia leben viele Jugendliche auf dem Zentralfriedhof.\nIn der Zeit zwischen ca. 7.30 bis ca. 10.30 Uhr informieren Helferinnen und Helfer vor den Bäckereien über die Hilfen für jene Kinder\, die in Monrovia\, der Hauptstadt Liberias\, aus blanker Not auf dem aufgelassen Zentralfriedhof leben und unter aufgebrochenen Grabplatten und in Nischen der früheren Gräber schlafen. Bruder Lothar Wagner SDB und die Salesianer Don Boscos versuchen den obdachlosen Jungen zu helfen\, indem sie zuhören\, Vertrauen aufbauen\, Perspektiven aufzeigen und ein warmes Essen anbieten. So wollen sie die oft drogenabhängigen oder der Prostitution nachgehenden Kinder wieder von der Straße holen.\nGegen eine Spende geben die Helfer*innen die Solibrottüte aus\, die dann im Laden  – als Beitrg der Bäckereien – mit einer kostenlsoen Breze\, einer Körndlsemmel oder einer Semmel befüllt wird.\nAn der Aktion beteiligen sich die Bäckereien Lugauer Benediktbeuern\, Bierbichler Kochel und Eberl Bichl. Die Aktion findet vor den Hauptgeschäften statt.  \nWie geht es den Kindern und Jugendlichen in Monrovia?\nDer Blick in den Palm Grove Friedhof in Monrovia.\nDie jungen Menschen leiden unter den Folgen eines jahrzehntelangen Rebellenkrieges und der Ebola-Katastrophe. Das Bildungssystem gilt als eines der schlechtesten weltweit. Polizei- und Justizwesen sind korrupt. Das Gesundheitssystem liegt am Boden. Nach einer neuen Studie sind mehr als die Hälfte der Bevölkerung von akuter Hungersnot betroffen. Die Liste könnte ich fortführen.\nKinder leben in Monrovia auf Friedhöfen \nLetztendlich fatal aber ist\, dass die Krise die Familien und damit die Kinder erreicht hat. Trotz harter Arbeit reicht der Tageslohn nicht aus\, um die Familie zu ernähren. Frust und daraus resultierende Aggressionen kriegen die Kinder ab. Familien zerbrechen\, Kinder landen reihenweise auf der Straße. Mir sind zahlreiche Kinder begegnet\, die Drogen konsumieren\, um ihrem Alltag zu entkommen. Das ist einfach erschreckend! \nWas brauchen die Kinder und Jugendlichen am meisten?\nDie jungen Menschen brauchen Begegnungen mit Personen\, die ihre Probleme ernst nehmen. Menschen\, die ihnen helfen\, konstruktiv mit Konflikten umzugehen und ihnen Zukunftsperspektiven aufzeigen. Die Jugendlichen brauchen Vorbilder und sie brauchen Aufmerksamkeit! Das bekommen sie aber meistens nicht und deshalb sinken sie immer weiter ab: In einen Teufelskreis von Drogensucht\, Prostitution\, Beschaffungskriminalität und letztendlich Krankheit und Verzweiflung. \nBruder Lothar Wagner SDB mits seinen Schützlingen\nWas können die Salesianer tun?\nWir müssen für die Kinder und Jugendlichen da sein. Um es mit Papst Franziskus zu sagen\, in den Peripherien und Brennpunkten präsent sein. Es braucht eine nachhaltige Partnerschaft zwischen den Kindern und den Salesianern. Und das kann und darf nicht nur eine unverbindliche Absichtserklärung sein. So\, wie wir es oft aus der Politik kennen. \nSchul-und Berufsbildung als Chance auf ein neues Leben \nSondern es muss ganz konkret bedeuten\, dass wir mit den Kindern durch dick und dünn gehen. Tag und Nacht: sie von den Straßen holen und zurück in ihre Familien bringen. Sie aus den Gefängnissen zurück in die Schulen bringen\, sie aus der Drogensucht in eine sinnhafte Lebenslage bringen. Sie brauchen intakte Familien\, gute Schulbildung und eine zukunftsfähige Berufsausbildung. \nWelche Momente oder Begegnungen geben dir Kraft? \nEs war bei strömenden Regen\, als ich zum ersten Mal auf dem Zentralfriedhof in Monrovia unterwegs war. Dort entdeckte ich Kinder\, die in Grabstätten leben\, weil sie sonst kein Dach über dem Kopf haben. Auf einmal hatte ich einen längeren Blickkontakt zu einem Kind\, das in einer Grabstätte zu mir herüberschaute. \nKinder\, die in Grabstätten übernachten \nNach einer Weile lächelte es mir zu. Ohne Worte. Eine kleine Geste als ein klares Zeichen. Eine Einladung\, dass ich in seiner Lebenswelt willkommen bin. Das fand ich einfach überwältigend. Es erlaubte mir\, näher zu treten\, einzutreten in seine Welt. Das hatte mich wirklich in meinem Lebensentschluss bestärkt\, gerade für die vergessenen Kinder da zu sein.
URL:https://www.pfarrei-kochel.de/event/soli-brotaktion-zugunsten-der-friedhofskinder-in-liberia-2/
CATEGORIES:Fastenzeit,Startseite
ATTACH;FMTTYPE=image/jpeg:https://www.pfarrei-kochel.de/wp-content/uploads/2025/02/Solibrot_C__Kat_Menschik-1-e1740751555511.jpg
END:VEVENT
BEGIN:VEVENT
DTSTART;TZID=Europe/Berlin:20250330T093000
DTEND;TZID=Europe/Berlin:20250330T130000
DTSTAMP:20260419T165712
CREATED:20250127T145128Z
LAST-MODIFIED:20250217T142659Z
UID:10000185-1743327000-1743339600@www.pfarrei-kochel.de
SUMMARY:Einkehrtag der Männer - Die Regel des hl. Benedikt
DESCRIPTION:Pfarrer Bernhard Stiegler und Philipp Gahn stellen die Regeln des hl. Benedikt vor.  Im gemeinsamen Gespräch und beim Austausch in Kleingruppen gehen wir der Frage nach\, inwieweit die Regel des hl. Benedikt auch für uns heute wichtige Orientierungen und wertvolle Impulse für unser geistliches Leben geben kann.\nWir beginnen um 9.30 Uhr im Pfarrsaal St. Benedikt und beenden das Treffen mit einer gemeinsamen heiligen Messe und dem anschließenden Mittagessen um ca. 13.00 Uhr
URL:https://www.pfarrei-kochel.de/event/einkehrtag-der-maenner/
LOCATION:Pfarrhof Benediktbeuern\, Dorfpl. 4\, 83671 Benediktbeuern\, Deutschland
CATEGORIES:Fastenzeit,Gottesdienst,Startseite
ATTACH;FMTTYPE=image/jpeg:https://www.pfarrei-kochel.de/wp-content/uploads/2025/01/Altarbild-Benedikt-Medium-e1739801560647.jpg
END:VEVENT
END:VCALENDAR